BEGIN:VCALENDAR
VERSION:2.0
PRODID:-//IJsvereniging Groningen - ECPv6.15.12.2//NONSGML v1.0//EN
CALSCALE:GREGORIAN
METHOD:PUBLISH
X-ORIGINAL-URL:https://www.yvg.nl
X-WR-CALDESC:Evenementen voor IJsvereniging Groningen
REFRESH-INTERVAL;VALUE=DURATION:PT1H
X-Robots-Tag:noindex
X-PUBLISHED-TTL:PT1H
BEGIN:VTIMEZONE
TZID:Europe/Amsterdam
BEGIN:DAYLIGHT
TZOFFSETFROM:+0100
TZOFFSETTO:+0200
TZNAME:CEST
DTSTART:20240331T010000
END:DAYLIGHT
BEGIN:STANDARD
TZOFFSETFROM:+0200
TZOFFSETTO:+0100
TZNAME:CET
DTSTART:20241027T010000
END:STANDARD
BEGIN:DAYLIGHT
TZOFFSETFROM:+0100
TZOFFSETTO:+0200
TZNAME:CEST
DTSTART:20250330T010000
END:DAYLIGHT
BEGIN:STANDARD
TZOFFSETFROM:+0200
TZOFFSETTO:+0100
TZNAME:CET
DTSTART:20251026T010000
END:STANDARD
BEGIN:DAYLIGHT
TZOFFSETFROM:+0100
TZOFFSETTO:+0200
TZNAME:CEST
DTSTART:20260329T010000
END:DAYLIGHT
BEGIN:STANDARD
TZOFFSETFROM:+0200
TZOFFSETTO:+0100
TZNAME:CET
DTSTART:20261025T010000
END:STANDARD
BEGIN:DAYLIGHT
TZOFFSETFROM:+0100
TZOFFSETTO:+0200
TZNAME:CEST
DTSTART:20270328T010000
END:DAYLIGHT
BEGIN:STANDARD
TZOFFSETFROM:+0200
TZOFFSETTO:+0100
TZNAME:CET
DTSTART:20271031T010000
END:STANDARD
END:VTIMEZONE
BEGIN:VEVENT
DTSTART;VALUE=DATE:20250324
DTEND;VALUE=DATE:20251001
DTSTAMP:20260423T010000
CREATED:20250315T140126Z
LAST-MODIFIED:20250315T140558Z
UID:11526-1742774400-1759276799@www.yvg.nl
SUMMARY:IJsbaan gesloten
DESCRIPTION:
URL:https://www.yvg.nl/activiteit/ijsbaan-gesloten/
CATEGORIES:Langebaan,Trainingen,Wedstrijd
END:VEVENT
BEGIN:VEVENT
DTSTART;TZID=Europe/Amsterdam:20251101T183000
DTEND;TZID=Europe/Amsterdam:20251101T200000
DTSTAMP:20260423T010000
CREATED:20251026T192851Z
LAST-MODIFIED:20251026T192851Z
UID:13584-1762021800-1762027200@www.yvg.nl
SUMMARY:YVG Clubwedstrijd
DESCRIPTION:Op zaterdag 1 november 2025 organiseren we de eerste YVG-clubwedstrijd van het seizoen voor pupillen t/m masters. De wedstrijd is van 18.30-20.00 uur. We gaan er een mooie start van het seizoen van maken. \nInschrijving is mogelijk voor maximaal 2 afstanden . Er kan gekozen worden voor de afstanden 100m\, 300m\, 500m\, 700m\, 1.000m\, 1.500m of 3.000m afhankelijk van je leeftijdscategorie. Voor de 3.000m geldt een beperkte inschrijving. \nWij zullen de wedstrijd splitsen in pupillen en Junioren C en ouder. Er zullen korte pauzes tussen zitten om de groepen te laten wisselen op het ijs. Veiligheid staat voorop zowel op als rond de ijsbaan. \n\nInschrijving staat open t/m vrijdag 31 oktober 2025\nLicentiehouders kunnen zich hier inschrijven\nLukt inschrijven niet stuur een mail met voor- en achternaam\, leeftijd\, licentienummer en de afstanden naar wedstrijden@yvg.nl
URL:https://www.yvg.nl/activiteit/yvg-clubwedstrijd-7/
LOCATION:Kardinge
CATEGORIES:Langebaan,Wedstrijd
ORGANIZER;CN="YVG-Wedstrijdcommissie":MAILTO:wedstrijden@yvg.nl
END:VEVENT
BEGIN:VEVENT
DTSTART;TZID=Europe/Amsterdam:20251129T113000
DTEND;TZID=Europe/Amsterdam:20251129T140000
DTSTAMP:20260423T010000
CREATED:20251026T193446Z
LAST-MODIFIED:20251026T193446Z
UID:13586-1764415800-1764424800@www.yvg.nl
SUMMARY:YVG Interclub Pupillen D t/m A
DESCRIPTION:Op zaterdag 29 november organiseert de wedstrijdcommissie de jaarlijkse interclub voor pupillen D t/m A. Een zeer leuke wedstrijd waar een team van YVG-ers samen strijden tegen teams van andere clubs uit heel Nederland. Naast de persoonlijke records en medailles per categorie strijdt het team om de beker voor de eerste prijs in het clubklassement.
URL:https://www.yvg.nl/activiteit/yvg-interclub-pupillen-d-t-m-a-4/
LOCATION:Kardinge
CATEGORIES:Langebaan,Wedstrijd
ORGANIZER;CN="YVG-Wedstrijdcommissie":MAILTO:wedstrijden@yvg.nl
END:VEVENT
BEGIN:VEVENT
DTSTART;TZID=Europe/Amsterdam:20251213T183000
DTEND;TZID=Europe/Amsterdam:20251213T200000
DTSTAMP:20260423T010000
CREATED:20251026T194109Z
LAST-MODIFIED:20251026T194109Z
UID:13588-1765650600-1765656000@www.yvg.nl
SUMMARY:YVG Clubwedstrijd i.s.m. Scharlakenhof
DESCRIPTION:Op zaterdag 13 december organiseert de wedstrijdcommissie een YVG Clubwedstrijd in samenwerking met Scharlakenhof. De wedstrijd zal worden opengesteld voor alle leden inclusief recreanten.
URL:https://www.yvg.nl/activiteit/yvg-clubwedstrijd-i-s-m-scharlakenhof/
LOCATION:Kardinge
CATEGORIES:Langebaan,Wedstrijd
ORGANIZER;CN="YVG-Wedstrijdcommissie":MAILTO:wedstrijden@yvg.nl
END:VEVENT
BEGIN:VEVENT
DTSTART;TZID=Europe/Amsterdam:20260124T183000
DTEND;TZID=Europe/Amsterdam:20260124T200000
DTSTAMP:20260423T010000
CREATED:20251026T194621Z
LAST-MODIFIED:20251026T194621Z
UID:13592-1769279400-1769284800@www.yvg.nl
SUMMARY:YVG Clubwedstrijd
DESCRIPTION:Op zaterdag 24 januari organiseert de wedstrijdcommissie een clubwedstrijd voor leden van YVG. \nMeer informatie volgt.
URL:https://www.yvg.nl/activiteit/yvg-clubwedstrijd-8/
LOCATION:Kardinge
CATEGORIES:Langebaan,Wedstrijd
ORGANIZER;CN="YVG-Wedstrijdcommissie":MAILTO:wedstrijden@yvg.nl
END:VEVENT
BEGIN:VEVENT
DTSTART;TZID=Europe/Amsterdam:20260314T180000
DTEND;TZID=Europe/Amsterdam:20260314T220000
DTSTAMP:20260423T010000
CREATED:20251026T195601Z
LAST-MODIFIED:20260314T143259Z
UID:13594-1773511200-1773525600@www.yvg.nl
SUMMARY:Huldiging Jenning de Boo + Marcel Bosker & YVG Clubkampioenschappen
DESCRIPTION:Zaterdag 14 maart organiseren we onze jaarlijkse YVG Clubkampioenschappen. Wij starten om 17.30 uur in Kardinge. \nEen gezellige wedstrijd voor YVG licentiehouders & recreanten. Wij hebben er veel zin in en hopen op vele spannende races. \n\nInschrijf mogelijkheden volgt later\nDe wedstrijd wordt verreden over de afstanden:\n\nPupillen F: 100-100\nPupillen E: 100-300\nPupillen D en C: 500-300De pupillen C strijden naast de titel ook om de Jurgen Popp bokaal voor het snelste meisje en de snelste jongen.*\nPupillen B en A: 500-700\nJunioren C: 500-1000\nJunioren B\, A\, neo-senioren\, senioren en masters met een licentie: 500-1000 of 500-1500 \nRecreanten tot 15 jaar worden ingedeeld op leeftijd bij de pupillen of junioren C\nRecreanten vanaf 15 jaar rijden de afstanden: 500-1000 \n* Jürgen Popp bokaal\nJürgen Popp was lange tijd lid van YVG en genoot van de jeugd die hij zag schaatsen op het YVG-uur of op de skeelerbaan. Hij woonde in Emden. Hij werd ernstig ziek en na zijn overlijden hoorden we van zijn echtgenote dat hij graag iets voor de jeugd wilde doen. Wij kwamen toen op het idee om deze wisselbokaal in te stellen. Het is dus een beker die op uitdrukkelijk verzoek van onze oud-YVG-er uit Duitsland is ingesteld ter stimulering van het schaatsen voor de jeugd. \nTijdens de Clubkampioenschappen worden jaarlijks prijzen uitgereikt per categorie schaatsers. Na overleg met de jeugdtrainers heeft YVG besloten om jaarlijks de Jürgen Popp Wisselbokaal uit te gaan reiken. Deze worden uitgereikt aan de snelste jongen en aan het snelste meisje in de categorie pupil C (leeftijd: 10 jaar). Begin maart 2012 zijn de bokalen voor de eerste keer uitgereikt. Op deze manier blijft binnen de vereniging de herinnering aan Jürgen Popp leven.
URL:https://www.yvg.nl/activiteit/yvg-clubkampioenschappen-5/
LOCATION:Kardinge
CATEGORIES:Langebaan,Wedstrijd
ORGANIZER;CN="YVG-Wedstrijdcommissie":MAILTO:wedstrijden@yvg.nl
END:VEVENT
END:VCALENDAR