BEGIN:VCALENDAR
VERSION:2.0
PRODID:-//IJsvereniging Groningen - ECPv6.15.12.2//NONSGML v1.0//EN
CALSCALE:GREGORIAN
METHOD:PUBLISH
X-WR-CALNAME:IJsvereniging Groningen
X-ORIGINAL-URL:https://www.yvg.nl
X-WR-CALDESC:Evenementen voor IJsvereniging Groningen
REFRESH-INTERVAL;VALUE=DURATION:PT1H
X-Robots-Tag:noindex
X-PUBLISHED-TTL:PT1H
BEGIN:VTIMEZONE
TZID:Europe/Amsterdam
BEGIN:DAYLIGHT
TZOFFSETFROM:+0100
TZOFFSETTO:+0200
TZNAME:CEST
DTSTART:20240331T010000
END:DAYLIGHT
BEGIN:STANDARD
TZOFFSETFROM:+0200
TZOFFSETTO:+0100
TZNAME:CET
DTSTART:20241027T010000
END:STANDARD
BEGIN:DAYLIGHT
TZOFFSETFROM:+0100
TZOFFSETTO:+0200
TZNAME:CEST
DTSTART:20250330T010000
END:DAYLIGHT
BEGIN:STANDARD
TZOFFSETFROM:+0200
TZOFFSETTO:+0100
TZNAME:CET
DTSTART:20251026T010000
END:STANDARD
BEGIN:DAYLIGHT
TZOFFSETFROM:+0100
TZOFFSETTO:+0200
TZNAME:CEST
DTSTART:20260329T010000
END:DAYLIGHT
BEGIN:STANDARD
TZOFFSETFROM:+0200
TZOFFSETTO:+0100
TZNAME:CET
DTSTART:20261025T010000
END:STANDARD
END:VTIMEZONE
BEGIN:VEVENT
DTSTART;TZID=Europe/Amsterdam:20251129T113000
DTEND;TZID=Europe/Amsterdam:20251129T140000
DTSTAMP:20260422T141335
CREATED:20251026T193446Z
LAST-MODIFIED:20251026T193446Z
UID:13586-1764415800-1764424800@www.yvg.nl
SUMMARY:YVG Interclub Pupillen D t/m A
DESCRIPTION:Op zaterdag 29 november organiseert de wedstrijdcommissie de jaarlijkse interclub voor pupillen D t/m A. Een zeer leuke wedstrijd waar een team van YVG-ers samen strijden tegen teams van andere clubs uit heel Nederland. Naast de persoonlijke records en medailles per categorie strijdt het team om de beker voor de eerste prijs in het clubklassement.
URL:https://www.yvg.nl/activiteit/yvg-interclub-pupillen-d-t-m-a-4/
LOCATION:Kardinge
CATEGORIES:Langebaan,Wedstrijd
ORGANIZER;CN="YVG-Wedstrijdcommissie":MAILTO:wedstrijden@yvg.nl
END:VEVENT
END:VCALENDAR