BEGIN:VCALENDAR
VERSION:2.0
PRODID:-//IJsvereniging Groningen - ECPv6.15.12.2//NONSGML v1.0//EN
CALSCALE:GREGORIAN
METHOD:PUBLISH
X-ORIGINAL-URL:https://www.yvg.nl
X-WR-CALDESC:Evenementen voor IJsvereniging Groningen
REFRESH-INTERVAL;VALUE=DURATION:PT1H
X-Robots-Tag:noindex
X-PUBLISHED-TTL:PT1H
BEGIN:VTIMEZONE
TZID:Europe/Amsterdam
BEGIN:DAYLIGHT
TZOFFSETFROM:+0100
TZOFFSETTO:+0200
TZNAME:CEST
DTSTART:20250330T010000
END:DAYLIGHT
BEGIN:STANDARD
TZOFFSETFROM:+0200
TZOFFSETTO:+0100
TZNAME:CET
DTSTART:20251026T010000
END:STANDARD
BEGIN:DAYLIGHT
TZOFFSETFROM:+0100
TZOFFSETTO:+0200
TZNAME:CEST
DTSTART:20260329T010000
END:DAYLIGHT
BEGIN:STANDARD
TZOFFSETFROM:+0200
TZOFFSETTO:+0100
TZNAME:CET
DTSTART:20261025T010000
END:STANDARD
BEGIN:DAYLIGHT
TZOFFSETFROM:+0100
TZOFFSETTO:+0200
TZNAME:CEST
DTSTART:20270328T010000
END:DAYLIGHT
BEGIN:STANDARD
TZOFFSETFROM:+0200
TZOFFSETTO:+0100
TZNAME:CET
DTSTART:20271031T010000
END:STANDARD
END:VTIMEZONE
BEGIN:VEVENT
DTSTART;TZID=Europe/Amsterdam:20260301T170000
DTEND;TZID=Europe/Amsterdam:20260301T180000
DTSTAMP:20260419T231709
CREATED:20251006T215552Z
LAST-MODIFIED:20260127T205451Z
UID:13435-1772384400-1772388000@www.yvg.nl
SUMMARY:Open YVG Marathon Kampioenschap (OYMK)
DESCRIPTION:Het is weer zover!  Zondag 1 maart organiseren we onze jaarlijkse OYMK. Een fantastisch Marathon Kampioenschap voor licentiehouders & recreanten (vanaf 15 jaar). De wedstrijd is van 17:00 tot 19:30 uur op de 400m baan van Kardinge. Er wordt in 4 groepen gestreden om de eer en de bekers. \nDe indeling van de groepen tijdens de OYMK is als volgt: \n17.00 uur Groep D: Recreantengroep 2 Dames + Heren (Snelheid 45-50 sec) 25 ronden waarvan met voorrijders 15 ronden\, daarna nog 10 ronden zonder voorrijders. Helm verplicht. \n17.30 uur Groep C: Recreantengroep 1 Dames + Heren (snelheid 40-45 sec) 30 ronden waarvan met voorrijders 20 ronden\, daarna nog 10 ronden zonder voorrijders. Helm verplicht. \nNa groep C volgt er een dweil. \n18.15 uur Groep B Licentiehouders Dames + Heren groep 3 BSB (Beenes Schaatsservice Bokaal) competitie en recreanten snelheid < 40 seconden\, 40 ronden zonder voorrijders. (Gemiddelde snelheid meestal tussen 38-40 sec). Helmverplichting en snijvaste handschoenen ed. transponder verplicht voor wedstrijdrijders\, recreanten het liefst ook met transponder. \n18.45 uur Groep A Licentiehouders Dames + Heren niveau groep 1 + 2 BSB (Beenes Schaatsservice Bokaal) competitie 45 ronden. (Gemiddelde snelheid < 38 sec). Helmverplichting en snijvaste handschoenen e.d. transponder verplicht. \nWij hebben er ontzettend veel zin in en hopen weer op een mooie avond.\nWedstrijdcommissie YVG
URL:https://www.yvg.nl/activiteit/doorgaan-yvg-uur-onzeker/
CATEGORIES:Activiteit
END:VEVENT
BEGIN:VEVENT
DTSTART;TZID=Europe/Amsterdam:20260315T170000
DTEND;TZID=Europe/Amsterdam:20260315T180000
DTSTAMP:20260419T231709
CREATED:20251006T215821Z
LAST-MODIFIED:20251006T215845Z
UID:13439-1773594000-1773597600@www.yvg.nl
SUMMARY:Laatste YVG-uur
DESCRIPTION:Elke zondag hebben we de ijsbaan helemaal voor onszelf tijdens het YVG-uur. Tijdens dit uur kunnen alle leden van YVG vrij schaatsen op de 400 meter baan. Bovendien is dit YVG-uur ook  voor leden met een gezinslidmaatschap. Het biedt een mooie gelegenheid om samen van het schaatsen te genieten!  We verwelkomen je graag op het ijs! \nHet is ook mogelijk om een introducee mee te nemen naar het YVG-uur\, maar dit doen we op basis van redelijkheid. Dit betekent dat je niet elke zondag dezelfde introducee kunt meenemen. \nLet op vanaf dit seizoen geldt een helmplicht tijdens het YVG-uur voor leden en introducees
URL:https://www.yvg.nl/activiteit/laatste-yvg-uur/
CATEGORIES:Activiteit
END:VEVENT
END:VCALENDAR