BEGIN:VCALENDAR
VERSION:2.0
PRODID:-//IJsvereniging Groningen - ECPv6.15.12.2//NONSGML v1.0//EN
CALSCALE:GREGORIAN
METHOD:PUBLISH
X-ORIGINAL-URL:https://www.yvg.nl
X-WR-CALDESC:Evenementen voor IJsvereniging Groningen
REFRESH-INTERVAL;VALUE=DURATION:PT1H
X-Robots-Tag:noindex
X-PUBLISHED-TTL:PT1H
BEGIN:VTIMEZONE
TZID:Europe/Amsterdam
BEGIN:DAYLIGHT
TZOFFSETFROM:+0100
TZOFFSETTO:+0200
TZNAME:CEST
DTSTART:20230326T010000
END:DAYLIGHT
BEGIN:STANDARD
TZOFFSETFROM:+0200
TZOFFSETTO:+0100
TZNAME:CET
DTSTART:20231029T010000
END:STANDARD
BEGIN:DAYLIGHT
TZOFFSETFROM:+0100
TZOFFSETTO:+0200
TZNAME:CEST
DTSTART:20240331T010000
END:DAYLIGHT
BEGIN:STANDARD
TZOFFSETFROM:+0200
TZOFFSETTO:+0100
TZNAME:CET
DTSTART:20241027T010000
END:STANDARD
BEGIN:DAYLIGHT
TZOFFSETFROM:+0100
TZOFFSETTO:+0200
TZNAME:CEST
DTSTART:20250330T010000
END:DAYLIGHT
BEGIN:STANDARD
TZOFFSETFROM:+0200
TZOFFSETTO:+0100
TZNAME:CET
DTSTART:20251026T010000
END:STANDARD
END:VTIMEZONE
BEGIN:VEVENT
DTSTART;TZID=Europe/Amsterdam:20241209T170000
DTEND;TZID=Europe/Amsterdam:20241209T180000
DTSTAMP:20260421T101754
CREATED:20241209T185522Z
LAST-MODIFIED:20241209T185522Z
UID:11106-1733763600-1733767200@www.yvg.nl
SUMMARY:YVG-uur
DESCRIPTION:
URL:https://www.yvg.nl/activiteit/yvg-uur-49/
CATEGORIES:Activiteit
END:VEVENT
BEGIN:VEVENT
DTSTART;TZID=Europe/Amsterdam:20241209T170000
DTEND;TZID=Europe/Amsterdam:20241209T180000
DTSTAMP:20260421T101754
CREATED:20241209T185625Z
LAST-MODIFIED:20241209T185625Z
UID:11108-1733763600-1733767200@www.yvg.nl
SUMMARY:YVG-uur
DESCRIPTION:
URL:https://www.yvg.nl/activiteit/yvg-uur-50/
CATEGORIES:Activiteit
END:VEVENT
END:VCALENDAR