BEGIN:VCALENDAR
VERSION:2.0
PRODID:-//IJsvereniging Groningen - ECPv6.15.12.2//NONSGML v1.0//EN
CALSCALE:GREGORIAN
METHOD:PUBLISH
X-ORIGINAL-URL:https://www.yvg.nl
X-WR-CALDESC:Evenementen voor IJsvereniging Groningen
REFRESH-INTERVAL;VALUE=DURATION:PT1H
X-Robots-Tag:noindex
X-PUBLISHED-TTL:PT1H
BEGIN:VTIMEZONE
TZID:Europe/Amsterdam
BEGIN:DAYLIGHT
TZOFFSETFROM:+0100
TZOFFSETTO:+0200
TZNAME:CEST
DTSTART:20220327T010000
END:DAYLIGHT
BEGIN:STANDARD
TZOFFSETFROM:+0200
TZOFFSETTO:+0100
TZNAME:CET
DTSTART:20221030T010000
END:STANDARD
BEGIN:DAYLIGHT
TZOFFSETFROM:+0100
TZOFFSETTO:+0200
TZNAME:CEST
DTSTART:20230326T010000
END:DAYLIGHT
BEGIN:STANDARD
TZOFFSETFROM:+0200
TZOFFSETTO:+0100
TZNAME:CET
DTSTART:20231029T010000
END:STANDARD
BEGIN:DAYLIGHT
TZOFFSETFROM:+0100
TZOFFSETTO:+0200
TZNAME:CEST
DTSTART:20240331T010000
END:DAYLIGHT
BEGIN:STANDARD
TZOFFSETFROM:+0200
TZOFFSETTO:+0100
TZNAME:CET
DTSTART:20241027T010000
END:STANDARD
END:VTIMEZONE
BEGIN:VEVENT
DTSTART;TZID=Europe/Amsterdam:20231029T170000
DTEND;TZID=Europe/Amsterdam:20231029T180000
DTSTAMP:20260424T004118
CREATED:20231015T113744Z
LAST-MODIFIED:20231023T153046Z
UID:9524-1698598800-1698602400@www.yvg.nl
SUMMARY:GEEN YVG-uur ivm Marathonwedstrijden
DESCRIPTION:Elke zondag hebben we de ijsbaan helemaal voor onszelf tijdens het YVG-uur. Tijdens dit uur kunnen alle leden van YVG vrij schaatsen op de 400 meter baan. Bovendien is dit YVG-uur ook  voor leden met een gezinslidmaatschap. Het biedt een mooie gelegenheid om samen van het schaatsen te genieten!  We verwelkomen je graag op het ijs! \nHet is ook mogelijk om een introducee mee te nemen naar het YVG-uur\, maar dit doen we op basis van redelijkheid. Dit betekent dat je niet elke zondag dezelfde introducee kunt meenemen.
URL:https://www.yvg.nl/activiteit/yvg-uur-13/
CATEGORIES:Activiteit
END:VEVENT
END:VCALENDAR