BEGIN:VCALENDAR
VERSION:2.0
PRODID:-//IJsvereniging Groningen - ECPv6.15.12.2//NONSGML v1.0//EN
CALSCALE:GREGORIAN
METHOD:PUBLISH
X-ORIGINAL-URL:https://www.yvg.nl
X-WR-CALDESC:Evenementen voor IJsvereniging Groningen
REFRESH-INTERVAL;VALUE=DURATION:PT1H
X-Robots-Tag:noindex
X-PUBLISHED-TTL:PT1H
BEGIN:VTIMEZONE
TZID:Europe/Amsterdam
BEGIN:DAYLIGHT
TZOFFSETFROM:+0100
TZOFFSETTO:+0200
TZNAME:CEST
DTSTART:20230326T010000
END:DAYLIGHT
BEGIN:STANDARD
TZOFFSETFROM:+0200
TZOFFSETTO:+0100
TZNAME:CET
DTSTART:20231029T010000
END:STANDARD
BEGIN:DAYLIGHT
TZOFFSETFROM:+0100
TZOFFSETTO:+0200
TZNAME:CEST
DTSTART:20240331T010000
END:DAYLIGHT
BEGIN:STANDARD
TZOFFSETFROM:+0200
TZOFFSETTO:+0100
TZNAME:CET
DTSTART:20241027T010000
END:STANDARD
BEGIN:DAYLIGHT
TZOFFSETFROM:+0100
TZOFFSETTO:+0200
TZNAME:CEST
DTSTART:20250330T010000
END:DAYLIGHT
BEGIN:STANDARD
TZOFFSETFROM:+0200
TZOFFSETTO:+0100
TZNAME:CET
DTSTART:20251026T010000
END:STANDARD
END:VTIMEZONE
BEGIN:VEVENT
DTSTART;TZID=Europe/Amsterdam:20240622T080000
DTEND;TZID=Europe/Amsterdam:20240622T170000
DTSTAMP:20260423T104443
CREATED:20231201T075833Z
LAST-MODIFIED:20231201T075833Z
UID:9798-1719043200-1719075600@www.yvg.nl
SUMMARY:Skeeleren op het TT-circuit
DESCRIPTION:De TT City Run is er voor iedereen! Tijdens On Wheels kunnen onder meer handbikers\, wheelers\, framerunners\, skaters/skeelers en mensen met een loopfiets of step een uur lang actief zijn op het TT Circuit. https://ttcityrun.nl/deelnemers/on-wheels
URL:https://www.yvg.nl/activiteit/skeeleren-op-het-tt-circuit/
CATEGORIES:Activiteit
END:VEVENT
END:VCALENDAR