BEGIN:VCALENDAR
VERSION:2.0
PRODID:-//IJsvereniging Groningen - ECPv6.15.12.2//NONSGML v1.0//EN
CALSCALE:GREGORIAN
METHOD:PUBLISH
X-WR-CALNAME:IJsvereniging Groningen
X-ORIGINAL-URL:https://www.yvg.nl
X-WR-CALDESC:Evenementen voor IJsvereniging Groningen
REFRESH-INTERVAL;VALUE=DURATION:PT1H
X-Robots-Tag:noindex
X-PUBLISHED-TTL:PT1H
BEGIN:VTIMEZONE
TZID:Europe/Amsterdam
BEGIN:DAYLIGHT
TZOFFSETFROM:+0100
TZOFFSETTO:+0200
TZNAME:CEST
DTSTART:20230326T010000
END:DAYLIGHT
BEGIN:STANDARD
TZOFFSETFROM:+0200
TZOFFSETTO:+0100
TZNAME:CET
DTSTART:20231029T010000
END:STANDARD
BEGIN:DAYLIGHT
TZOFFSETFROM:+0100
TZOFFSETTO:+0200
TZNAME:CEST
DTSTART:20240331T010000
END:DAYLIGHT
BEGIN:STANDARD
TZOFFSETFROM:+0200
TZOFFSETTO:+0100
TZNAME:CET
DTSTART:20241027T010000
END:STANDARD
BEGIN:DAYLIGHT
TZOFFSETFROM:+0100
TZOFFSETTO:+0200
TZNAME:CEST
DTSTART:20250330T010000
END:DAYLIGHT
BEGIN:STANDARD
TZOFFSETFROM:+0200
TZOFFSETTO:+0100
TZNAME:CET
DTSTART:20251026T010000
END:STANDARD
END:VTIMEZONE
BEGIN:VEVENT
DTSTART;TZID=Europe/Amsterdam:20240303T170000
DTEND;TZID=Europe/Amsterdam:20240303T180000
DTSTAMP:20260423T152218
CREATED:20231015T120638Z
LAST-MODIFIED:20231015T120901Z
UID:9556-1709485200-1709488800@www.yvg.nl
SUMMARY:YVG-uur
DESCRIPTION:Elke zondag hebben we de ijsbaan helemaal voor onszelf tijdens het YVG-uur. Tijdens dit uur kunnen alle leden van YVG vrij schaatsen op de 400 meter baan. Bovendien is dit YVG-uur ook  voor leden met een gezinslidmaatschap. Het biedt een mooie gelegenheid om samen van het schaatsen te genieten!  We verwelkomen je graag op het ijs! \nHet is ook mogelijk om een introducee mee te nemen naar het YVG-uur\, maar dit doen we op basis van redelijkheid. Dit betekent dat je niet elke zondag dezelfde introducee kunt meenemen.
URL:https://www.yvg.nl/activiteit/yvg-uur-29/
CATEGORIES:Activiteit
END:VEVENT
BEGIN:VEVENT
DTSTART;TZID=Europe/Amsterdam:20240310T170000
DTEND;TZID=Europe/Amsterdam:20240310T180000
DTSTAMP:20260423T152218
CREATED:20231015T121117Z
LAST-MODIFIED:20231203T152210Z
UID:9562-1710090000-1710093600@www.yvg.nl
SUMMARY:YVG-uur
DESCRIPTION:Elke zondag hebben we de ijsbaan helemaal voor onszelf tijdens het YVG-uur. Tijdens dit uur kunnen alle leden van YVG vrij schaatsen op de 400 meter baan. Bovendien is dit YVG-uur ook  voor leden met een gezinslidmaatschap. Het biedt een mooie gelegenheid om samen van het schaatsen te genieten!  We verwelkomen je graag op het ijs! \nHet is ook mogelijk om een introducee mee te nemen naar het YVG-uur\, maar dit doen we op basis van redelijkheid. Dit betekent dat je niet elke zondag dezelfde introducee kunt meenemen.
URL:https://www.yvg.nl/activiteit/yvg-uur-30/
CATEGORIES:Activiteit
END:VEVENT
BEGIN:VEVENT
DTSTART;TZID=Europe/Amsterdam:20240317T170000
DTEND;TZID=Europe/Amsterdam:20240317T180000
DTSTAMP:20260423T152218
CREATED:20231015T121209Z
LAST-MODIFIED:20240317T131712Z
UID:9564-1710694800-1710698400@www.yvg.nl
SUMMARY:Toertocht tijdens YVG-uur - Het laatste YVG-uur alweer voor dit seizoen
DESCRIPTION:Zondag 17 maart organiseren we tijdens het YVG-uur (17-18) de traditionele toertocht met versnapering! In vier groepen schaatsen we een klein uur rondjes achter voorrijders voordat we gezellig napraten bij een kop warme chocolademelk of kwast. Er wordt gestart in 4 groepen. De indeling is als volgt: \n  \nGroep 1 rijdt 60 rondjes tussen de 41 en 44 sec. per ronde \nGroep 2 rijdt 50 rondjes tussen de 47 en 51 sec. per ronde \nGroep 3 rijdt 40 rondjes tussen de 53 en 57 sec. per ronde \nGroep 4 rijdt 25 rondjes tussen de 64 en 70 sec. per ronde \n  \nOpgave vooraf is niet nodig\, je kunt zo mee doen. Tijdens de toertocht is het heel beperkt mogelijk om zelfstandig te schaatsen. \n 
URL:https://www.yvg.nl/activiteit/yvg-uur-31/
CATEGORIES:Activiteit
END:VEVENT
END:VCALENDAR